BEGIN:VCALENDAR
VERSION:2.0
PRODID:-//Sabre//Sabre VObject 4.5.8//EN
CALSCALE:GREGORIAN
BEGIN:VEVENT
UID:criticalmass-one-falkensee-1605283200
DTSTAMP:20260420T225007Z
SUMMARY:Critical Mass Falkensee 13.11.2020
DTSTART;TZID=Europe/Berlin:20201113T170000
DTEND;TZID=Europe/Berlin:20201113T190000
LOCATION:Vorplatz der alten Stadthalle
GEO:52.561886;13.091508
URL;VALUE=URI:https://criticalmass.in/falkensee/2020-11-13
END:VEVENT
END:VCALENDAR
