BEGIN:VCALENDAR
VERSION:2.0
PRODID:-//Sabre//Sabre VObject 4.5.8//EN
CALSCALE:GREGORIAN
BEGIN:VEVENT
UID:criticalmass-one-falkensee-1565362800
DTSTAMP:20260420T200420Z
SUMMARY:Critical Mass Falkensee 09.08.2019
DTSTART;TZID=Europe/Berlin:20190809T170000
DTEND;TZID=Europe/Berlin:20190809T190000
LOCATION:Vorplatz der alten Stadthalle
GEO:52.562004;13.093922
URL;VALUE=URI:https://criticalmass.in/falkensee/2019-08-09
END:VEVENT
END:VCALENDAR
