BEGIN:VCALENDAR
VERSION:2.0
PRODID:-//Sabre//Sabre VObject 4.5.8//EN
CALSCALE:GREGORIAN
BEGIN:VEVENT
UID:criticalmass-one-falkensee-1560524400
DTSTAMP:20260420T223940Z
SUMMARY:Critical Mass Falkensee 14.06.2019
DTSTART;TZID=Europe/Berlin:20190614T170000
DTEND;TZID=Europe/Berlin:20190614T190000
LOCATION:Vorplatz der alten Stadthalle
GEO:52.561886;13.091508
URL;VALUE=URI:https://criticalmass.in/falkensee/2019-06-14
END:VEVENT
END:VCALENDAR
