BEGIN:VCALENDAR
VERSION:2.0
PRODID:-//Sabre//Sabre VObject 4.5.8//EN
CALSCALE:GREGORIAN
BEGIN:VEVENT
UID:criticalmass-one-falkensee-1552060800
DTSTAMP:20260420T225053Z
SUMMARY:Critical Mass Falkensee 08.03.2019
DTSTART;TZID=Europe/Berlin:20190308T170000
DTEND;TZID=Europe/Berlin:20190308T190000
LOCATION:Vorplatz der alten Stadthalle
GEO:52.561886;13.091508
URL;VALUE=URI:https://criticalmass.in/falkensee/2019-03-08
END:VEVENT
END:VCALENDAR
