BEGIN:VCALENDAR
VERSION:2.0
PRODID:-//Sabre//Sabre VObject 4.5.8//EN
CALSCALE:GREGORIAN
BEGIN:VEVENT
UID:criticalmass-one-falkensee-1544803200
DTSTAMP:20260421T032045Z
SUMMARY:Critical Mass Falkensee 14.12.2018
DTSTART;TZID=Europe/Berlin:20181214T170000
DTEND;TZID=Europe/Berlin:20181214T190000
LOCATION:Vorplatz der alten Stadthalle
GEO:52.561886;13.091508
URL;VALUE=URI:https://criticalmass.in/falkensee/2018-12-14
END:VEVENT
END:VCALENDAR
