BEGIN:VCALENDAR
VERSION:2.0
PRODID:-//Sabre//Sabre VObject 4.5.8//EN
CALSCALE:GREGORIAN
BEGIN:VEVENT
UID:criticalmass-one-falkensee-1541779200
DTSTAMP:20260420T212456Z
SUMMARY:Critical Mass Falkensee 09.11.2018
DTSTART;TZID=Europe/Berlin:20181109T170000
DTEND;TZID=Europe/Berlin:20181109T190000
LOCATION:Vorplatz der alten Stadthalle
GEO:52.561886;13.091508
URL;VALUE=URI:https://criticalmass.in/falkensee/2018-11-09
END:VEVENT
END:VCALENDAR
