BEGIN:VCALENDAR
VERSION:2.0
PRODID:-//Sabre//Sabre VObject 4.5.8//EN
CALSCALE:GREGORIAN
BEGIN:VEVENT
UID:criticalmass-one-falkensee-1531494000
DTSTAMP:20260421T032102Z
SUMMARY:Critical Mass Falkensee 13.07.2018
DTSTART;TZID=Europe/Berlin:20180713T170000
DTEND;TZID=Europe/Berlin:20180713T190000
LOCATION:Vorplatz der alten Stadthalle
GEO:52.561886;13.091508
URL;VALUE=URI:https://criticalmass.in/falkensee/2018-07-13
END:VEVENT
END:VCALENDAR
