BEGIN:VCALENDAR
VERSION:2.0
PRODID:-//Sabre//Sabre VObject 4.5.8//EN
CALSCALE:GREGORIAN
BEGIN:VEVENT
UID:criticalmass-one-euskirchen-1769353200
DTSTAMP:20260423T234321Z
SUMMARY:Critical Mass Euskirchen 25.01.2026
DTSTART;TZID=Europe/Berlin:20260125T160000
DTEND;TZID=Europe/Berlin:20260125T180000
LOCATION:Klostergarten (City-Forum - C&A – Galeria).
GEO:50.659697;6.788199
URL;VALUE=URI:https://criticalmass.in/euskirchen/2026-01-25
END:VEVENT
END:VCALENDAR
