BEGIN:VCALENDAR
VERSION:2.0
PRODID:-//Sabre//Sabre VObject 4.5.8//EN
CALSCALE:GREGORIAN
BEGIN:VEVENT
UID:criticalmass-one-euskirchen-1764514800
DTSTAMP:20260424T180900Z
SUMMARY:Critical Mass Euskirchen 30.11.2025
DTSTART;TZID=Europe/Berlin:20251130T160000
DTEND;TZID=Europe/Berlin:20251130T180000
LOCATION:Klostergarten (City-Forum - C&A – Galeria).
URL;VALUE=URI:https://criticalmass.in/euskirchen/2025-11-30
END:VEVENT
END:VCALENDAR
