BEGIN:VCALENDAR
VERSION:2.0
PRODID:-//Sabre//Sabre VObject 4.5.8//EN
CALSCALE:GREGORIAN
BEGIN:VEVENT
UID:criticalmass-one-euskirchen-1759068000
DTSTAMP:20260425T003052Z
SUMMARY:Critical Mass Euskirchen 28.09.2025
DTSTART;TZID=Europe/Berlin:20250928T160000
DTEND;TZID=Europe/Berlin:20250928T180000
LOCATION:Klostergarten (City-Forum - C&A – Galeria).
URL;VALUE=URI:https://criticalmass.in/euskirchen/2025-09-28
END:VEVENT
END:VCALENDAR
