BEGIN:VCALENDAR
VERSION:2.0
PRODID:-//Sabre//Sabre VObject 4.5.8//EN
CALSCALE:GREGORIAN
BEGIN:VEVENT
UID:criticalmass-one-euskirchen-1756648800
DTSTAMP:20260425T002508Z
SUMMARY:Critical Mass Euskirchen 31.08.2025
DTSTART;TZID=Europe/Berlin:20250831T160000
DTEND;TZID=Europe/Berlin:20250831T180000
LOCATION:Klostergarten (City-Forum - C&A – Galeria).
URL;VALUE=URI:https://criticalmass.in/euskirchen/2025-08-31
END:VEVENT
END:VCALENDAR
