BEGIN:VCALENDAR
VERSION:2.0
PRODID:-//Sabre//Sabre VObject 4.5.8//EN
CALSCALE:GREGORIAN
BEGIN:VEVENT
UID:criticalmass-one-euskirchen-1753624800
DTSTAMP:20260423T193617Z
SUMMARY:Critical Mass Euskirchen 27.07.2025
DTSTART;TZID=Europe/Berlin:20250727T160000
DTEND;TZID=Europe/Berlin:20250727T180000
LOCATION:Klostergarten (City-Forum - C&A – Galeria).
URL;VALUE=URI:https://criticalmass.in/euskirchen/2025-07-27
END:VEVENT
END:VCALENDAR
