BEGIN:VCALENDAR
VERSION:2.0
PRODID:-//Sabre//Sabre VObject 4.5.8//EN
CALSCALE:GREGORIAN
BEGIN:VEVENT
UID:criticalmass-one-euskirchen-1751205600
DTSTAMP:20260425T164524Z
SUMMARY:Critical Mass Euskirchen 29.06.2025
DTSTART;TZID=Europe/Berlin:20250629T160000
DTEND;TZID=Europe/Berlin:20250629T180000
LOCATION:Klostergarten (City-Forum - C&A – Galeria).
URL;VALUE=URI:https://criticalmass.in/euskirchen/2025-06-29
END:VEVENT
END:VCALENDAR
