BEGIN:VCALENDAR
VERSION:2.0
PRODID:-//Sabre//Sabre VObject 4.5.8//EN
CALSCALE:GREGORIAN
BEGIN:VEVENT
UID:criticalmass-one-euskirchen-1748181600
DTSTAMP:20260424T104618Z
SUMMARY:Critical Mass Euskirchen 25.05.2025
DTSTART;TZID=Europe/Berlin:20250525T160000
DTEND;TZID=Europe/Berlin:20250525T180000
LOCATION:Klostergarten (City-Forum - C&A – Galeria).
URL;VALUE=URI:https://criticalmass.in/euskirchen/2025-05-25
END:VEVENT
END:VCALENDAR
