BEGIN:VCALENDAR
VERSION:2.0
PRODID:-//Sabre//Sabre VObject 4.5.8//EN
CALSCALE:GREGORIAN
BEGIN:VEVENT
UID:criticalmass-one-euskirchen-1730041200
DTSTAMP:20260424T093950Z
SUMMARY:Critical Mass Euskirchen 27.10.2024
DTSTART;TZID=Europe/Berlin:20241027T160000
DTEND;TZID=Europe/Berlin:20241027T180000
LOCATION:Klostergarten (City-Forum - C&A – Galeria).
URL;VALUE=URI:https://criticalmass.in/euskirchen/2024-10-27
END:VEVENT
END:VCALENDAR
