BEGIN:VCALENDAR
VERSION:2.0
PRODID:-//Sabre//Sabre VObject 4.5.8//EN
CALSCALE:GREGORIAN
BEGIN:VEVENT
UID:criticalmass-one-euskirchen-1716732000
DTSTAMP:20260424T122614Z
SUMMARY:Critical Mass Euskirchen 26.05.2024
DTSTART;TZID=Europe/Berlin:20240526T160000
DTEND;TZID=Europe/Berlin:20240526T180000
LOCATION:Klostergarten (City-Forum - C&A – Galeria).
URL;VALUE=URI:https://criticalmass.in/euskirchen/2024-05-26
END:VEVENT
END:VCALENDAR
