BEGIN:VCALENDAR
VERSION:2.0
PRODID:-//Sabre//Sabre VObject 4.5.8//EN
CALSCALE:GREGORIAN
BEGIN:VEVENT
UID:criticalmass-one-euskirchen-1714312800
DTSTAMP:20260424T232622Z
SUMMARY:Critical Mass Euskirchen 28.04.2024
DTSTART;TZID=Europe/Berlin:20240428T160000
DTEND;TZID=Europe/Berlin:20240428T180000
LOCATION:Klostergarten (City-Forum - C&A – Galeria).
URL;VALUE=URI:https://criticalmass.in/euskirchen/2024-04-28
END:VEVENT
END:VCALENDAR
