BEGIN:VCALENDAR
VERSION:2.0
PRODID:-//Sabre//Sabre VObject 4.5.8//EN
CALSCALE:GREGORIAN
BEGIN:VEVENT
UID:criticalmass-one-euskirchen-1690725600
DTSTAMP:20260423T154616Z
SUMMARY:Critical Mass Euskirchen 30.07.2023
DTSTART;TZID=Europe/Berlin:20230730T160000
DTEND;TZID=Europe/Berlin:20230730T180000
LOCATION:Klostergarten (City-Forum - C&A – Galeria).
URL;VALUE=URI:https://criticalmass.in/euskirchen/2023-07-30
END:VEVENT
END:VCALENDAR
