BEGIN:VCALENDAR
VERSION:2.0
PRODID:-//Sabre//Sabre VObject 4.5.8//EN
CALSCALE:GREGORIAN
BEGIN:VEVENT
UID:criticalmass-one-euskirchen-1685282400
DTSTAMP:20260423T192410Z
SUMMARY:Critical Mass Euskirchen 28.05.2023
DTSTART;TZID=Europe/Berlin:20230528T160000
DTEND;TZID=Europe/Berlin:20230528T180000
LOCATION:Klostergarten (City-Forum - C&A – Galeria).
URL;VALUE=URI:https://criticalmass.in/euskirchen/2023-05-28
END:VEVENT
END:VCALENDAR
