BEGIN:VCALENDAR
VERSION:2.0
PRODID:-//Sabre//Sabre VObject 4.5.8//EN
CALSCALE:GREGORIAN
BEGIN:VEVENT
UID:criticalmass-one-euskirchen-1669561200
DTSTAMP:20260425T033912Z
SUMMARY:Critical Mass Euskirchen 27.11.2022
DTSTART;TZID=Europe/Berlin:20221127T160000
DTEND;TZID=Europe/Berlin:20221127T180000
LOCATION:Klostergarten (City-Forum - C&A – Galeria).
URL;VALUE=URI:https://criticalmass.in/euskirchen/2022-11-27
END:VEVENT
END:VCALENDAR
