BEGIN:VCALENDAR
VERSION:2.0
PRODID:-//Sabre//Sabre VObject 4.5.8//EN
CALSCALE:GREGORIAN
BEGIN:VEVENT
UID:criticalmass-one-euskirchen-1667142000
DTSTAMP:20260424T104423Z
SUMMARY:Critical Mass Euskirchen 30.10.2022
DTSTART;TZID=Europe/Berlin:20221030T160000
DTEND;TZID=Europe/Berlin:20221030T180000
LOCATION:Klostergarten (City-Forum - C&A – Galeria).
URL;VALUE=URI:https://criticalmass.in/euskirchen/2022-10-30
END:VEVENT
END:VCALENDAR
