BEGIN:VCALENDAR
VERSION:2.0
PRODID:-//Sabre//Sabre VObject 4.5.8//EN
CALSCALE:GREGORIAN
BEGIN:VEVENT
UID:criticalmass-one-euskirchen-1661695200
DTSTAMP:20260423T163021Z
SUMMARY:Critical Mass Euskirchen 28.08.2022
DTSTART;TZID=Europe/Berlin:20220828T160000
DTEND;TZID=Europe/Berlin:20220828T180000
LOCATION:Klostergarten (City-Forum - C&A – Galeria).
URL;VALUE=URI:https://criticalmass.in/euskirchen/2022-08-28
END:VEVENT
END:VCALENDAR
