BEGIN:VCALENDAR
VERSION:2.0
PRODID:-//Sabre//Sabre VObject 4.5.8//EN
CALSCALE:GREGORIAN
BEGIN:VEVENT
UID:criticalmass-one-euskirchen-1659276000
DTSTAMP:20260424T094019Z
SUMMARY:Critical Mass Euskirchen 31.07.2022
DTSTART;TZID=Europe/Berlin:20220731T160000
DTEND;TZID=Europe/Berlin:20220731T180000
LOCATION:Klostergarten (City-Forum - C&A – Galeria).
URL;VALUE=URI:https://criticalmass.in/euskirchen/2022-07-31
END:VEVENT
END:VCALENDAR
