BEGIN:VCALENDAR
VERSION:2.0
PRODID:-//Sabre//Sabre VObject 4.5.8//EN
CALSCALE:GREGORIAN
BEGIN:VEVENT
UID:criticalmass-one-euskirchen-1656252000
DTSTAMP:20260424T110216Z
SUMMARY:Critical Mass Euskirchen 26.06.2022
DTSTART;TZID=Europe/Berlin:20220626T160000
DTEND;TZID=Europe/Berlin:20220626T180000
LOCATION:Klostergarten (City-Forum - C&A – Galeria).
URL;VALUE=URI:https://criticalmass.in/euskirchen/2022-06-26
END:VEVENT
END:VCALENDAR
