BEGIN:VCALENDAR
VERSION:2.0
PRODID:-//Sabre//Sabre VObject 4.5.8//EN
CALSCALE:GREGORIAN
BEGIN:VEVENT
UID:criticalmass-one-euskirchen-1643554800
DTSTAMP:20260425T164516Z
SUMMARY:Critical Mass Euskirchen 30.01.2022
DTSTART;TZID=Europe/Berlin:20220130T160000
DTEND;TZID=Europe/Berlin:20220130T180000
LOCATION:Klostergarten (City-Forum - C&A – Galeria).
URL;VALUE=URI:https://criticalmass.in/euskirchen/2022-01-30
END:VEVENT
END:VCALENDAR
