BEGIN:VCALENDAR
VERSION:2.0
PRODID:-//Sabre//Sabre VObject 4.5.8//EN
CALSCALE:GREGORIAN
BEGIN:VEVENT
UID:criticalmass-one-euskirchen-1640530800
DTSTAMP:20260424T104414Z
SUMMARY:Critical Mass Euskirchen 26.12.2021
DTSTART;TZID=Europe/Berlin:20211226T160000
DTEND;TZID=Europe/Berlin:20211226T180000
LOCATION:Klostergarten (City-Forum - C&A – Galeria).
URL;VALUE=URI:https://criticalmass.in/euskirchen/2021-12-26
END:VEVENT
END:VCALENDAR
