BEGIN:VCALENDAR
VERSION:2.0
PRODID:-//Sabre//Sabre VObject 4.5.8//EN
CALSCALE:GREGORIAN
BEGIN:VEVENT
UID:criticalmass-one-euskirchen-1619352000
DTSTAMP:20260423T204206Z
SUMMARY:Critical Mass Euskirchen 25.04.2021
DTSTART;TZID=Europe/Berlin:20210425T140000
DTEND;TZID=Europe/Berlin:20210425T160000
LOCATION:Klostergarten (City-Forum - C&A – Galeria).
URL;VALUE=URI:https://criticalmass.in/euskirchen/2021-04-25
END:VEVENT
END:VCALENDAR
