BEGIN:VCALENDAR
VERSION:2.0
PRODID:-//Sabre//Sabre VObject 4.5.8//EN
CALSCALE:GREGORIAN
BEGIN:VEVENT
UID:criticalmass-one-euskirchen-1587909600
DTSTAMP:20260423T172830Z
SUMMARY:Critical Mass Euskirchen 26.04.2020
DTSTART;TZID=Europe/Berlin:20200426T160000
DTEND;TZID=Europe/Berlin:20200426T180000
LOCATION:Klostergarten (City-Forum - C&A – Galeria).
URL;VALUE=URI:https://criticalmass.in/euskirchen/2020-04-26
END:VEVENT
END:VCALENDAR
