BEGIN:VCALENDAR
VERSION:2.0
PRODID:-//Sabre//Sabre VObject 4.5.8//EN
CALSCALE:GREGORIAN
BEGIN:VEVENT
UID:criticalmass-one-euskirchen-1574607600
DTSTAMP:20260423T192128Z
SUMMARY:Critical Mass Euskirchen 24.11.2019
DTSTART;TZID=Europe/Berlin:20191124T160000
DTEND;TZID=Europe/Berlin:20191124T180000
LOCATION:Klostergarten (City-Forum - C&A – Galeria).
URL;VALUE=URI:https://criticalmass.in/euskirchen/2019-11-24
END:VEVENT
END:VCALENDAR
