BEGIN:VCALENDAR
VERSION:2.0
PRODID:-//Sabre//Sabre VObject 4.5.8//EN
CALSCALE:GREGORIAN
BEGIN:VEVENT
UID:criticalmass-one-ettlingen-1584871200
DTSTAMP:20260422T231531Z
SUMMARY:Kidical Mass Ettlingen
DESCRIPTION:Wir fahren mit Kindern und Jugendlichen eine Runde mit dem Fahr
 rad durch die Stadt.\nWir wollen eine Stadt\, in der auch junge Menschen s
 ich sicher und frei bewegen können.\nWir wollen Dinge ins Rollen bringen.
DTSTART;TZID=Europe/Berlin:20200322T110000
DTEND;TZID=Europe/Berlin:20200322T130000
LOCATION:Marktplatz
GEO:48.941000;8.407000
URL;VALUE=URI:https://criticalmass.in/ettlingen/kidical-mass-maerz-2020
END:VEVENT
END:VCALENDAR
