BEGIN:VCALENDAR
VERSION:2.0
PRODID:-//Sabre//Sabre VObject 4.5.8//EN
CALSCALE:GREGORIAN
BEGIN:VEVENT
UID:criticalmass-one-estero-1769884200
DTSTAMP:20260424T032509Z
SUMMARY:Alex Pretti Memorial Ride — Dave Blouir and the Bonita Bicycle Cl
 ub
DESCRIPTION:Saturday\, Jan 31\, 1:30 pm Roll Out\n15-mile mixed terrain rou
 te
DTSTART;TZID=America/New_York:20260131T133000
DTEND;TZID=America/New_York:20260131T153000
LOCATION:Estero
GEO:26.404546;-81.808865
URL;VALUE=URI:https://criticalmass.in/estero/alex-pretti-memorial-ride-este
 ro-2026-01-31
END:VEVENT
END:VCALENDAR
