BEGIN:VCALENDAR
VERSION:2.0
PRODID:-//Sabre//Sabre VObject 4.5.8//EN
CALSCALE:GREGORIAN
BEGIN:VEVENT
UID:criticalmass-one-esslingen-1757854800
DTSTAMP:20260424T034655Z
SUMMARY:Kidical Mass Esslingen 14.09.2025
DESCRIPTION:Am Sonntag\, dem 18.05.2025 rollt wieder die Kidical Mass Essli
 ngen\n\nLos geht es um 15 Uhr am Marktplatz\nHerzlich eingeladen sind alle
  Kinder und Erwachsenen zu gemeinsamen Fahrradrundfahrt. Gemeinsam rollen 
 wir am Sonntag\, den 14. Sept. wieder in gemütlichem Tempo (7km/h).\nDie 
 Stecke durch Esslingen ist wieder ca. 5 km lange und verläuft im Tal.\nMi
 t cooler Musik und gesichert von der Polizei genießen wir die Fahrt mit d
 en kleinen Rädern über die großen Straßen.
DTSTART;TZID=Europe/Berlin:20250914T150000
DTEND;TZID=Europe/Berlin:20250914T170000
LOCATION:Esslingen Marktplatz
GEO:48.742855;9.305907
URL;VALUE=URI:https://criticalmass.in/esslingen/kidical-mass-esslingen-sept
 ember-2025
END:VEVENT
END:VCALENDAR
