BEGIN:VCALENDAR
VERSION:2.0
PRODID:-//Sabre//Sabre VObject 4.5.8//EN
CALSCALE:GREGORIAN
BEGIN:VEVENT
UID:criticalmass-one-esslingen-1632056400
DTSTAMP:20260424T211433Z
SUMMARY:Kidical Mass Esslingen 19.09.2021
DTSTART;TZID=Europe/Berlin:20210919T150000
DTEND;TZID=Europe/Berlin:20210919T170000
LOCATION:Marktplatz
GEO:48.742884;9.306042
URL;VALUE=URI:https://criticalmass.in/esslingen/kidical-mass-esslingen-sept
 ember-2021
END:VEVENT
END:VCALENDAR
