BEGIN:VCALENDAR
VERSION:2.0
PRODID:-//Sabre//Sabre VObject 4.5.8//EN
CALSCALE:GREGORIAN
BEGIN:VEVENT
UID:criticalmass-one-esslingen-1728219600
DTSTAMP:20260426T011852Z
SUMMARY:Kidical Mass Esslingen 06.10.2024
DESCRIPTION:Am Ziel wird uns ein Eiswagen erwarten\, eventuell sogar das Sp
 ielmobil.
DTSTART;TZID=Europe/Berlin:20241006T150000
DTEND;TZID=Europe/Berlin:20241006T170000
LOCATION:Esslingen Marktplatz Esslingen
GEO:48.742704;9.306531
URL;VALUE=URI:https://criticalmass.in/esslingen/kidical-mass-esslingen-okto
 ber-2024
END:VEVENT
END:VCALENDAR
