BEGIN:VCALENDAR
VERSION:2.0
PRODID:-//Sabre//Sabre VObject 4.5.8//EN
CALSCALE:GREGORIAN
BEGIN:VEVENT
UID:criticalmass-one-esslingen-1747573200
DTSTAMP:20260425T023623Z
SUMMARY:Kidical Mass Esslingen 18.05.2025
DTSTART;TZID=Europe/Berlin:20250518T150000
DTEND;TZID=Europe/Berlin:20250518T170000
LOCATION:Esslingen Marktplatz
GEO:48.742855;9.305907
URL;VALUE=URI:https://criticalmass.in/esslingen/kidical-mass-esslingen-mai-
 2025
END:VEVENT
END:VCALENDAR
