BEGIN:VCALENDAR
VERSION:2.0
PRODID:-//Sabre//Sabre VObject 4.5.8//EN
CALSCALE:GREGORIAN
BEGIN:VEVENT
UID:criticalmass-one-esslingen-1774026000
DTSTAMP:20260424T092217Z
SUMMARY:Critical Mass Esslingen 20.03.2026
DTSTART;TZID=Europe/Berlin:20260320T180000
DTEND;TZID=Europe/Berlin:20260320T200000
LOCATION:Esslingen\, Bahnhofsvorplatz
GEO:48.739373;9.301000
URL;VALUE=URI:https://criticalmass.in/esslingen/2026-03-20
END:VEVENT
END:VCALENDAR
