BEGIN:VCALENDAR
VERSION:2.0
PRODID:-//Sabre//Sabre VObject 4.5.8//EN
CALSCALE:GREGORIAN
BEGIN:VEVENT
UID:criticalmass-one-esslingen-1766163600
DTSTAMP:20260424T003616Z
SUMMARY:Critical Mass Esslingen 19.12.2025
DTSTART;TZID=Europe/Berlin:20251219T180000
DTEND;TZID=Europe/Berlin:20251219T200000
LOCATION:Esslingen\, Marktplatz
GEO:48.742706;9.306729
URL;VALUE=URI:https://criticalmass.in/esslingen/2025-12-19
END:VEVENT
END:VCALENDAR
