BEGIN:VCALENDAR
VERSION:2.0
PRODID:-//Sabre//Sabre VObject 4.5.8//EN
CALSCALE:GREGORIAN
BEGIN:VEVENT
UID:criticalmass-one-esslingen-1731690000
DTSTAMP:20260423T125111Z
SUMMARY:Critical Mass Esslingen 15.11.2024
DTSTART;TZID=Europe/Berlin:20241115T180000
DTEND;TZID=Europe/Berlin:20241115T200000
LOCATION:Esslingen\, Bahnhofsvorplatz
GEO:48.739479;9.300957
URL;VALUE=URI:https://criticalmass.in/esslingen/2024-11-15
END:VEVENT
END:VCALENDAR
