BEGIN:VCALENDAR
VERSION:2.0
PRODID:-//Sabre//Sabre VObject 4.5.8//EN
CALSCALE:GREGORIAN
BEGIN:VEVENT
UID:criticalmass-one-esslingen-1726848000
DTSTAMP:20260422T231241Z
SUMMARY:Critical Mass Esslingen 20.09.2024
DTSTART;TZID=Europe/Berlin:20240920T180000
DTEND;TZID=Europe/Berlin:20240920T200000
LOCATION:Esslingen\, Marktplatz
GEO:48.742706;9.306729
URL;VALUE=URI:https://criticalmass.in/esslingen/2024-09-20
END:VEVENT
END:VCALENDAR
