BEGIN:VCALENDAR
VERSION:2.0
PRODID:-//Sabre//Sabre VObject 4.5.8//EN
CALSCALE:GREGORIAN
BEGIN:VEVENT
UID:criticalmass-one-esslingen-1705683600
DTSTAMP:20260425T033859Z
SUMMARY:Critical Mass Esslingen 19.01.2024
DTSTART;TZID=Europe/Berlin:20240119T180000
DTEND;TZID=Europe/Berlin:20240119T200000
LOCATION:Esslingen\, Marktplatz
GEO:48.742706;9.306729
URL;VALUE=URI:https://criticalmass.in/esslingen/2024-01-19
END:VEVENT
END:VCALENDAR
