BEGIN:VCALENDAR
VERSION:2.0
PRODID:-//Sabre//Sabre VObject 4.5.8//EN
CALSCALE:GREGORIAN
BEGIN:VEVENT
UID:criticalmass-one-esslingen-1692374400
DTSTAMP:20260423T084538Z
SUMMARY:Critical Mass Esslingen 18.08.2023
DTSTART;TZID=Europe/Berlin:20230818T180000
DTEND;TZID=Europe/Berlin:20230818T200000
LOCATION:Esslingen\, Marktplatz
GEO:48.742706;9.306729
URL;VALUE=URI:https://criticalmass.in/esslingen/2023-08-18
END:VEVENT
END:VCALENDAR
