BEGIN:VCALENDAR
VERSION:2.0
PRODID:-//Sabre//Sabre VObject 4.5.8//EN
CALSCALE:GREGORIAN
BEGIN:VEVENT
UID:criticalmass-one-esslingen-1671210000
DTSTAMP:20260424T100753Z
SUMMARY:Critical Mass Esslingen 16.12.2022
DTSTART;TZID=Europe/Berlin:20221216T180000
DTEND;TZID=Europe/Berlin:20221216T200000
LOCATION:Esslingen\, Marktplatz
GEO:48.742706;9.306729
URL;VALUE=URI:https://criticalmass.in/esslingen/2022-12-16
END:VEVENT
END:VCALENDAR
