BEGIN:VCALENDAR
VERSION:2.0
PRODID:-//Sabre//Sabre VObject 4.5.8//EN
CALSCALE:GREGORIAN
BEGIN:VEVENT
UID:criticalmass-one-esslingen-1650038400
DTSTAMP:20260423T192653Z
SUMMARY:Critical Mass Esslingen 15.04.2022
DTSTART;TZID=Europe/Berlin:20220415T180000
DTEND;TZID=Europe/Berlin:20220415T200000
LOCATION:Esslingen\, Marktplatz
GEO:48.742706;9.306729
URL;VALUE=URI:https://criticalmass.in/esslingen/2022-04-15
END:VEVENT
END:VCALENDAR
