BEGIN:VCALENDAR
VERSION:2.0
PRODID:-//Sabre//Sabre VObject 4.5.8//EN
CALSCALE:GREGORIAN
BEGIN:VEVENT
UID:criticalmass-one-esslingen-1647622800
DTSTAMP:20260422T090726Z
SUMMARY:Critical Mass Esslingen 18.03.2022
DTSTART;TZID=Europe/Berlin:20220318T180000
DTEND;TZID=Europe/Berlin:20220318T200000
LOCATION:Esslingen\, Marktplatz
GEO:48.742706;9.306729
URL;VALUE=URI:https://criticalmass.in/esslingen/2022-03-18
END:VEVENT
END:VCALENDAR
