BEGIN:VCALENDAR
VERSION:2.0
PRODID:-//Sabre//Sabre VObject 4.5.8//EN
CALSCALE:GREGORIAN
BEGIN:VEVENT
UID:criticalmass-one-esslingen-1637341200
DTSTAMP:20260423T113112Z
SUMMARY:Critical Mass Esslingen 19.11.2021
DTSTART;TZID=Europe/Berlin:20211119T180000
DTEND;TZID=Europe/Berlin:20211119T200000
LOCATION:Esslingen\, Marktplatz
GEO:48.742706;9.306729
URL;VALUE=URI:https://criticalmass.in/esslingen/2021-11-19
END:VEVENT
END:VCALENDAR
