BEGIN:VCALENDAR
VERSION:2.0
PRODID:-//Sabre//Sabre VObject 4.5.8//EN
CALSCALE:GREGORIAN
BEGIN:VEVENT
UID:criticalmass-one-esslingen-1634313600
DTSTAMP:20260423T084630Z
SUMMARY:Critical Mass Esslingen 15.10.2021
DTSTART;TZID=Europe/Berlin:20211015T180000
DTEND;TZID=Europe/Berlin:20211015T200000
LOCATION:Esslingen\, Marktplatz
GEO:48.742706;9.306729
URL;VALUE=URI:https://criticalmass.in/esslingen/2021-10-15
END:VEVENT
END:VCALENDAR
