BEGIN:VCALENDAR
VERSION:2.0
PRODID:-//Sabre//Sabre VObject 4.5.8//EN
CALSCALE:GREGORIAN
BEGIN:VEVENT
UID:criticalmass-one-esslingen-1629475200
DTSTAMP:20260422T100103Z
SUMMARY:Critical Mass Esslingen 20.08.2021
DTSTART;TZID=Europe/Berlin:20210820T180000
DTEND;TZID=Europe/Berlin:20210820T200000
LOCATION:Esslingen\, Marktplatz
GEO:48.742684;9.306836
URL;VALUE=URI:https://criticalmass.in/esslingen/2021-08-20
END:VEVENT
END:VCALENDAR
