BEGIN:VCALENDAR
VERSION:2.0
PRODID:-//Sabre//Sabre VObject 4.5.8//EN
CALSCALE:GREGORIAN
BEGIN:VEVENT
UID:criticalmass-one-esslingen-1626451200
DTSTAMP:20260424T152655Z
SUMMARY:Critical Mass Esslingen 16.07.2021
DTSTART;TZID=Europe/Berlin:20210716T180000
DTEND;TZID=Europe/Berlin:20210716T200000
LOCATION:Esslingen\, Marktplatz
GEO:48.742182;9.306707
URL;VALUE=URI:https://criticalmass.in/esslingen/2021-07-16
END:VEVENT
END:VCALENDAR
