BEGIN:VCALENDAR
VERSION:2.0
PRODID:-//Sabre//Sabre VObject 4.5.8//EN
CALSCALE:GREGORIAN
BEGIN:VEVENT
UID:criticalmass-one-esslingen-1621612800
DTSTAMP:20260423T021006Z
SUMMARY:Critical Mass Esslingen 21.05.2021
DTSTART;TZID=Europe/Berlin:20210521T180000
DTEND;TZID=Europe/Berlin:20210521T200000
LOCATION:Esslingen\, Bahnhofsvorplatz
GEO:48.739416;9.300592
URL;VALUE=URI:https://criticalmass.in/esslingen/2021-05-21
END:VEVENT
END:VCALENDAR
