BEGIN:VCALENDAR
VERSION:2.0
PRODID:-//Sabre//Sabre VObject 4.5.8//EN
CALSCALE:GREGORIAN
BEGIN:VEVENT
UID:criticalmass-one-esslingen-1618581600
DTSTAMP:20260423T154517Z
SUMMARY:Critical Mass Esslingen 16.04.2021
DTSTART;TZID=Europe/Berlin:20210416T160000
DTEND;TZID=Europe/Berlin:20210416T180000
LOCATION:Esslingen\, Bahnhofsvorplatz
GEO:48.739416;9.300592
URL;VALUE=URI:https://criticalmass.in/esslingen/2021-04-16
END:VEVENT
END:VCALENDAR
